0.0000329999999999966480
0.0
0.0
-0.0000329999999999966480
-79.424450779298908
43.728054682735703
